BEGIN:VCALENDAR
VERSION:2.0
PRODID:-//Die Kuchenblech Mafia - ECPv6.15.20//NONSGML v1.0//EN
CALSCALE:GREGORIAN
METHOD:PUBLISH
X-WR-CALNAME:Die Kuchenblech Mafia
X-ORIGINAL-URL:https://kuchenblechmafia.com
X-WR-CALDESC:Veranstaltungen für Die Kuchenblech Mafia
REFRESH-INTERVAL;VALUE=DURATION:PT1H
X-Robots-Tag:noindex
X-PUBLISHED-TTL:PT1H
BEGIN:VTIMEZONE
TZID:Europe/Berlin
BEGIN:DAYLIGHT
TZOFFSETFROM:+0100
TZOFFSETTO:+0200
TZNAME:CEST
DTSTART:20250330T010000
END:DAYLIGHT
BEGIN:STANDARD
TZOFFSETFROM:+0200
TZOFFSETTO:+0100
TZNAME:CET
DTSTART:20251026T010000
END:STANDARD
BEGIN:DAYLIGHT
TZOFFSETFROM:+0100
TZOFFSETTO:+0200
TZNAME:CEST
DTSTART:20260329T010000
END:DAYLIGHT
BEGIN:STANDARD
TZOFFSETFROM:+0200
TZOFFSETTO:+0100
TZNAME:CET
DTSTART:20261025T010000
END:STANDARD
BEGIN:DAYLIGHT
TZOFFSETFROM:+0100
TZOFFSETTO:+0200
TZNAME:CEST
DTSTART:20270328T010000
END:DAYLIGHT
BEGIN:STANDARD
TZOFFSETFROM:+0200
TZOFFSETTO:+0100
TZNAME:CET
DTSTART:20271031T010000
END:STANDARD
END:VTIMEZONE
BEGIN:VEVENT
DTSTART;TZID=Europe/Berlin:20260426T080000
DTEND;TZID=Europe/Berlin:20260426T170000
DTSTAMP:20260426T015551
CREATED:20250924T171418Z
LAST-MODIFIED:20260221T164316Z
UID:2633-1777190400-1777222800@kuchenblechmafia.com
SUMMARY:Saisonauftakt MotorTreff am Flugfeld Motorworld Region Stuttgart
DESCRIPTION:Allgemeines Fahrzeug Treffen zum Einstieg in die Saison
URL:https://kuchenblechmafia.com/event/saisonauftakt-motortreff-am-flugfeld/
LOCATION:Motorworld Region Stuttgart\, Graf Zeppelin Platz\, Böblingen\, Baden-Württemberg\, 71034\, Germany
CATEGORIES:Treffen
ATTACH;FMTTYPE=image/jpeg:https://kuchenblechmafia.com/wp-content/uploads/2025/11/motorworld-stuttgart.jpg
END:VEVENT
BEGIN:VEVENT
DTSTART;TZID=Europe/Berlin:20260426T090000
DTEND;TZID=Europe/Berlin:20260426T170000
DTSTAMP:20260426T015551
CREATED:20260425T145800Z
LAST-MODIFIED:20260425T152250Z
UID:6501-1777194000-1777222800@kuchenblechmafia.com
SUMMARY:Classics & Coffee Mercedes Museum Stuttgart 26.04.2026
DESCRIPTION:Classics & Coffee Mercedes Museum Stuttgart \n  \nClassics & Coffee Mercedes Museum Stuttgart\, das markenoffene Treffen für Oldtimer\, Youngtimer und Exoten in Stuttgart.\nVom 12.04.2026 bis zum 11.10.2026 findet das Classics & Coffee Stuttgart immer sonntags ab 09:00 Uhr statt.ce \nWeitere Informationen zum Event folgen. Für aktuellste Infos lohnt sich immer ein Blick auf die Website der Veranstaltung!
URL:https://kuchenblechmafia.com/event/classics-coffee-mercedes-museum-stuttgart24-04-2026/
LOCATION:Mercedes Museum Stuttgart\, Mercedesstraße 100\, Stuttgart\, Baden-Württemberg\, 70372\, Germany
CATEGORIES:Treffen
ATTACH;FMTTYPE=image/jpeg:https://kuchenblechmafia.com/wp-content/uploads/2026/01/ccmm.jpg
END:VEVENT
END:VCALENDAR