BEGIN:VCALENDAR
VERSION:2.0
PRODID:-//Die Kuchenblech Mafia - ECPv6.15.20//NONSGML v1.0//EN
CALSCALE:GREGORIAN
METHOD:PUBLISH
X-ORIGINAL-URL:https://kuchenblechmafia.com
X-WR-CALDESC:Veranstaltungen für Die Kuchenblech Mafia
REFRESH-INTERVAL;VALUE=DURATION:PT1H
X-Robots-Tag:noindex
X-PUBLISHED-TTL:PT1H
BEGIN:VTIMEZONE
TZID:Europe/Berlin
BEGIN:DAYLIGHT
TZOFFSETFROM:+0100
TZOFFSETTO:+0200
TZNAME:CEST
DTSTART:20250330T010000
END:DAYLIGHT
BEGIN:STANDARD
TZOFFSETFROM:+0200
TZOFFSETTO:+0100
TZNAME:CET
DTSTART:20251026T010000
END:STANDARD
BEGIN:DAYLIGHT
TZOFFSETFROM:+0100
TZOFFSETTO:+0200
TZNAME:CEST
DTSTART:20260329T010000
END:DAYLIGHT
BEGIN:STANDARD
TZOFFSETFROM:+0200
TZOFFSETTO:+0100
TZNAME:CET
DTSTART:20261025T010000
END:STANDARD
BEGIN:DAYLIGHT
TZOFFSETFROM:+0100
TZOFFSETTO:+0200
TZNAME:CEST
DTSTART:20270328T010000
END:DAYLIGHT
BEGIN:STANDARD
TZOFFSETFROM:+0200
TZOFFSETTO:+0100
TZNAME:CET
DTSTART:20271031T010000
END:STANDARD
END:VTIMEZONE
BEGIN:VEVENT
DTSTART;TZID=Europe/Berlin:20260801T120000
DTEND;TZID=Europe/Berlin:20260801T170000
DTSTAMP:20260424T122806
CREATED:20260308T122549Z
LAST-MODIFIED:20260308T131444Z
UID:5590-1785585600-1785603600@kuchenblechmafia.com
SUMMARY:17. Untergröninger Rallyesprint
DESCRIPTION:Am 01.08.2026 findet der 17. Untergröninger Rallyesprint statt! \n  \n6. Wertungslauf des Baden-Württemberg-Franken- Rallyepokal 2026 (BWF Rallyepokal) \nAlle Veranstaltungen des BWF Rallyepokal findest du hier im Kalender \nWertungslauf der ADAC Retro-Rallye-Serie 2026 \nWürttembergische ADAC Rallye-Meisterschaft \nFür aktuelle Informationen die Website vom MSC Untergröningen ansteuern\nhttps://www.msc-untergroeningen.de \n  \n \n  \n 
URL:https://kuchenblechmafia.com/event/17-untergroeninger-rallyesprint/
LOCATION:Untergröninger Rallyesprint\, Untergröningen (Abtsgmünd)\, Baden-Württemberg\, 73453\, Germany
CATEGORIES:BWF Rallye Pokal,Motorsport
END:VEVENT
END:VCALENDAR