BEGIN:VCALENDAR
VERSION:2.0
PRODID:-//Die Kuchenblech Mafia - ECPv6.15.20//NONSGML v1.0//EN
CALSCALE:GREGORIAN
METHOD:PUBLISH
X-WR-CALNAME:Die Kuchenblech Mafia
X-ORIGINAL-URL:https://kuchenblechmafia.com
X-WR-CALDESC:Veranstaltungen für Die Kuchenblech Mafia
REFRESH-INTERVAL;VALUE=DURATION:PT1H
X-Robots-Tag:noindex
X-PUBLISHED-TTL:PT1H
BEGIN:VTIMEZONE
TZID:Europe/Berlin
BEGIN:DAYLIGHT
TZOFFSETFROM:+0100
TZOFFSETTO:+0200
TZNAME:CEST
DTSTART:20250330T010000
END:DAYLIGHT
BEGIN:STANDARD
TZOFFSETFROM:+0200
TZOFFSETTO:+0100
TZNAME:CET
DTSTART:20251026T010000
END:STANDARD
BEGIN:DAYLIGHT
TZOFFSETFROM:+0100
TZOFFSETTO:+0200
TZNAME:CEST
DTSTART:20260329T010000
END:DAYLIGHT
BEGIN:STANDARD
TZOFFSETFROM:+0200
TZOFFSETTO:+0100
TZNAME:CET
DTSTART:20261025T010000
END:STANDARD
BEGIN:DAYLIGHT
TZOFFSETFROM:+0100
TZOFFSETTO:+0200
TZNAME:CEST
DTSTART:20270328T010000
END:DAYLIGHT
BEGIN:STANDARD
TZOFFSETFROM:+0200
TZOFFSETTO:+0100
TZNAME:CET
DTSTART:20271031T010000
END:STANDARD
END:VTIMEZONE
BEGIN:VEVENT
DTSTART;TZID=Europe/Berlin:20260905T120000
DTEND;TZID=Europe/Berlin:20260905T170000
DTSTAMP:20260424T140000
CREATED:20260308T124121Z
LAST-MODIFIED:20260308T131444Z
UID:5591-1788609600-1788627600@kuchenblechmafia.com
SUMMARY:42. ADAC Gerhard-Mitter-Gedächtnisrallye Rallye Calw 2022
DESCRIPTION:Am 05.09.2026 findet 42. ADAC Gerhard-Mitter-Gedächtnisrallye in Calw statt! \n7. Wertungslauf des Baden-Württemberg-Franken- Rallyepokal 2026 (BWF Rallyepokal) \nAlle Veranstaltungen des BWF Rallyepokal findest du hier im Kalender \nWertungslauf der ADAC Retro-Rallye-Serie 2026 \nWürttembergische ADAC Rallye-Meisterschaft \nFür aktuelle Informationen die Website vom MSC Calw ansteuern:\nhttps://msc-calw.de/rallye \n 
URL:https://kuchenblechmafia.com/event/42-adac-gerhard-mitter-gedaechtnisrallye-rallye-calw-2022/
LOCATION:Gerhard-Mitter-Gedächtnisrallye Calw\, Calw\, Baden-Württemberg\, 75365\, Germany
CATEGORIES:BWF Rallye Pokal,Motorsport
END:VEVENT
BEGIN:VEVENT
DTSTART;TZID=Europe/Berlin:20260912T120000
DTEND;TZID=Europe/Berlin:20260912T170000
DTSTAMP:20260424T140000
CREATED:20260308T123533Z
LAST-MODIFIED:20260308T131444Z
UID:5592-1789214400-1789232400@kuchenblechmafia.com
SUMMARY:7. Rallye Laichinger-Alb
DESCRIPTION:Am 12.09.2026 findet die 7. Rallye Laichinger-Alb in Lachingen statt! \n8. Wertungslauf des Baden-Württemberg-Franken- Rallyepokal 2026 (BWF Rallyepokal) \nAlle Veranstaltungen des BWF Rallyepokal findest du hier im Kalender \nWertungslauf der ADAC Retro-Rallye-Serie 2026 \nWürttembergische ADAC Rallye-Meisterschaft \nFür aktuelle Informationen die Website vom MSC Laichingen ansteuern:\nhttps://msc-laichingen.de \n 
URL:https://kuchenblechmafia.com/event/7-rallye-laichinger-alb/
LOCATION:MSC Laichingen e.V.\, Laichingen\, Baden-Württemberg\, 89150\, Germany
CATEGORIES:BWF Rallye Pokal,Motorsport
END:VEVENT
END:VCALENDAR